BEGIN:VCALENDAR
VERSION:2.0
PRODID:-//L´Ascensió Fires i Festes 2026 - ECPv6.0.1.1//NONSGML v1.0//EN
CALSCALE:GREGORIAN
METHOD:PUBLISH
X-WR-CALNAME:L´Ascensió Fires i Festes 2026
X-ORIGINAL-URL:https://ascensio.cat
X-WR-CALDESC:Esdeveniments per L´Ascensió Fires i Festes 2026
REFRESH-INTERVAL;VALUE=DURATION:PT1H
X-Robots-Tag:noindex
X-PUBLISHED-TTL:PT1H
BEGIN:VTIMEZONE
TZID:UTC
BEGIN:STANDARD
TZOFFSETFROM:+0000
TZOFFSETTO:+0000
TZNAME:UTC
DTSTART:20260101T000000
END:STANDARD
END:VTIMEZONE
BEGIN:VEVENT
DTSTART;VALUE=DATE:20260511
DTEND;VALUE=DATE:20260701
DTSTAMP:20260420T214924
CREATED:20260420T151920Z
LAST-MODIFIED:20260420T151920Z
UID:4207-1778457600-1782863999@ascensio.cat
SUMMARY:L’Ascensió a l’Arxiu
DESCRIPTION:Als apartats “Films” i “Fotografies” del portal web d’Imatges: arxiufotografic.granollers.cat \nFilm: Fires de l’Artesania Vivent a la Porxada\, anys 1969-70 \nMostra d’imatges: Vistes panoràmiques del Parc Firal\, anys 1960-70 \nFa 57 anys\, la Porxada va omplir-se de ceramistes\, ferrers\, espardenyers\, impressors\, modistes\, marbristes\, enquadernadors… Eren artesans de proximitat\, amb noms com Soto-Subirana\, Casa Bassa\, Massagué o les nines Beibi\, que en el marc de la Fira de l’Ascensió mostraven el seu art i ofici.
URL:https://ascensio.cat/esdeveniments/lascensio-a-larxiu/
END:VEVENT
BEGIN:VEVENT
DTSTART;TZID=UTC:20260512T190000
DTEND;TZID=UTC:20260512T190000
DTSTAMP:20260420T214924
CREATED:20260420T144937Z
LAST-MODIFIED:20260420T180305Z
UID:4151-1778612400-1778612400@ascensio.cat
SUMMARY:ANADA AL PREGÓ DE L’ASCENSIÓ
DESCRIPTION:Rebuda de la pregonera i cercavila amb els gegants grossos de la ciutat. \nOrg.: Amics dels Gegants i Capgrossos de Granollers
URL:https://ascensio.cat/esdeveniments/anada-al-prego-de-lascensio/
LOCATION:plaça Porxada
END:VEVENT
BEGIN:VEVENT
DTSTART;TZID=UTC:20260512T193000
DTEND;TZID=UTC:20260512T193000
DTSTAMP:20260420T214924
CREATED:20260420T145038Z
LAST-MODIFIED:20260420T145038Z
UID:4153-1778614200-1778614200@ascensio.cat
SUMMARY:PREGÓ DE LA 74a EDICIÓ DE LES FIRES I FESTES DE L’ASCENSIÓ
DESCRIPTION:
URL:https://ascensio.cat/esdeveniments/prego-de-la-74a-edicio-de-les-fires-i-festes-de-lascensio/
LOCATION:Sala Francesc Tarafa
END:VEVENT
BEGIN:VEVENT
DTSTART;TZID=UTC:20260513T180000
DTEND;TZID=UTC:20260513T180000
DTSTAMP:20260420T214924
CREATED:20260420T145231Z
LAST-MODIFIED:20260420T145231Z
UID:4155-1778695200-1778695200@ascensio.cat
SUMMARY:INAUGURACIÓ DE L'EXPOSICIÓ ART + ESCOLA + CONTACTE
DESCRIPTION:Mostra de les obres de les escoles en aquesta desena edició del projecte Art i escola. \nOrg.: AC Granollers i Museu de Granollers
URL:https://ascensio.cat/esdeveniments/inauguracio-de-lexposicio-art-escola-contacte/
LOCATION:Museu de Granollers\, Museo de Granollers\, Carrer Anselm Clavé\, 40 - 42\, 08401 Granollers\, Barcelona\, Granollers\, Barcelona\, 08401\, Espanya
END:VEVENT
BEGIN:VEVENT
DTSTART;TZID=UTC:20260514T190000
DTEND;TZID=UTC:20260514T190000
DTSTAMP:20260420T214924
CREATED:20260420T145359Z
LAST-MODIFIED:20260420T145359Z
UID:4158-1778785200-1778785200@ascensio.cat
SUMMARY:CERCAVILA DE LA MULASSA
DESCRIPTION:Recorregut: pl. Porxada\, c. St. Roc\, c. Anselm Clavé\, c. Sta. Esperança i pl. Porxada \nOrg.: Olla dels Pobres – Mulassa
URL:https://ascensio.cat/esdeveniments/cercavila-de-la-mulassa-2/
LOCATION:plaça Porxada
END:VEVENT
BEGIN:VEVENT
DTSTART;TZID=UTC:20260514T200000
DTEND;TZID=UTC:20260514T200000
DTSTAMP:20260420T214924
CREATED:20260420T145500Z
LAST-MODIFIED:20260420T145500Z
UID:4160-1778788800-1778788800@ascensio.cat
SUMMARY:ASSAIG ESPECIAL DE CASTELLS
DESCRIPTION:Vine a l’assaig especial de l’Ascensió\, la primera actuació de la temporada a la Porxada. Viure’ls és millor que veure’ls! \nOrg.: Xics de Granollers
URL:https://ascensio.cat/esdeveniments/assaig-especial-de-castells-2/
LOCATION:La Troca / Roca Umbert
END:VEVENT
BEGIN:VEVENT
DTSTART;TZID=UTC:20260515T100000
DTEND;TZID=UTC:20260515T120000
DTSTAMP:20260420T214924
CREATED:20260420T145618Z
LAST-MODIFIED:20260420T145618Z
UID:4162-1778839200-1778846400@ascensio.cat
SUMMARY:FEM UN LLIBRE
DESCRIPTION:Els infants escriuen un conte i els il·lustradors i il·lustradores hi posen imatges. \nInscripcions fins a les 12 h. \nOrg.: Casal del Mestre i llibreria La Gralla \nCol·l.: Institut Celestí Bellera\, Escola Ginebró i Iboix Escola
URL:https://ascensio.cat/esdeveniments/fem-un-llibre-2/
LOCATION:Plaça de la Porxada
END:VEVENT
BEGIN:VEVENT
DTSTART;TZID=UTC:20260515T180000
DTEND;TZID=UTC:20260515T180000
DTSTAMP:20260420T214924
CREATED:20260420T145710Z
LAST-MODIFIED:20260420T145710Z
UID:4164-1778868000-1778868000@ascensio.cat
SUMMARY:PASSACARRERS DE L’ASCENSIÓ AMB ELS GEGANTS DE LA CIUTAT
DESCRIPTION:Recorregut: pl. Porxada\, c. Sta. Esperança\, c. Anselm Clavé\, c. St. Roc i pl. Porxada \nOrg.: Amics dels Gegants i Capgrossos de Granollers
URL:https://ascensio.cat/esdeveniments/passacarrers-de-lascensio-amb-els-gegants-de-la-ciutat-2/
END:VEVENT
BEGIN:VEVENT
DTSTART;TZID=UTC:20260515T183000
DTEND;TZID=UTC:20260515T183000
DTSTAMP:20260420T214924
CREATED:20260420T145808Z
LAST-MODIFIED:20260420T145808Z
UID:4166-1778869800-1778869800@ascensio.cat
SUMMARY:BALLADA DE SARDANES AMB L’ORQUESTRA LA PRINCIPAL DE LA BISBAL
DESCRIPTION:Col·l.: Agrupació Sardanista de Granollers \n(En cas de pluja\, consulteu possibles canvis d’ubicació a: instagram.com/granollerscultura)
URL:https://ascensio.cat/esdeveniments/ballada-de-sardanes-amb-lorquestra-la-principal-de-la-bisbal/
LOCATION:Carrer Anselm Clavé
END:VEVENT
BEGIN:VEVENT
DTSTART;TZID=UTC:20260515T190000
DTEND;TZID=UTC:20260515T190000
DTSTAMP:20260420T214924
CREATED:20260420T145909Z
LAST-MODIFIED:20260420T145909Z
UID:4168-1778871600-1778871600@ascensio.cat
SUMMARY:BALLS DE PROTOCOL DELS GEGANTS DE LA CIUTAT
DESCRIPTION:Org.: Amics dels Gegants i Capgrossos de Granollers
URL:https://ascensio.cat/esdeveniments/balls-de-protocol-dels-gegants-de-la-ciutat-2/
LOCATION:Plaça de la Porxada
END:VEVENT
BEGIN:VEVENT
DTSTART;TZID=UTC:20260515T193000
DTEND;TZID=UTC:20260515T193000
DTSTAMP:20260420T214924
CREATED:20260420T150006Z
LAST-MODIFIED:20260420T150006Z
UID:4170-1778873400-1778873400@ascensio.cat
SUMMARY:CONCERT DE L'ORQUESTRA LA PRINCIPAL DE LA BISBAL
DESCRIPTION:(En cas de pluja consulteu possibles canvis d’ubicació a: instagram.com/granollerscultura)
URL:https://ascensio.cat/esdeveniments/concert-de-lorquestra-la-principal-de-la-bisbal/
LOCATION:Plaça de la Porxada
END:VEVENT
BEGIN:VEVENT
DTSTART;TZID=UTC:20260515T200000
DTEND;TZID=UTC:20260515T200000
DTSTAMP:20260420T214924
CREATED:20260420T150055Z
LAST-MODIFIED:20260420T150055Z
UID:4172-1778875200-1778875200@ascensio.cat
SUMMARY:YO SOBREVIVÍ A LA EGB
DESCRIPTION:Monòleg d’humor de Jordi Merca que revisita amb nostàlgia i humor la infància dels anys vuitanta i la generació de l’EGB. \nEntrades a: escenagran.cat
URL:https://ascensio.cat/esdeveniments/yo-sobrevivi-a-la-egb/
LOCATION:Teatre Auditori de Granollers
END:VEVENT
BEGIN:VEVENT
DTSTART;TZID=UTC:20260515T203000
DTEND;TZID=UTC:20260515T203000
DTSTAMP:20260420T214924
CREATED:20260420T150143Z
LAST-MODIFIED:20260420T150143Z
UID:4174-1778877000-1778877000@ascensio.cat
SUMMARY:ASSAIG ESPECIAL DE CASTELLS
DESCRIPTION:Últim assaig abans de l’actuació de diumenge. No t’ho pensis i enfaixa’t amb nosaltres! \nOrg.: Xics de Granollers
URL:https://ascensio.cat/esdeveniments/assaig-especial-de-castells-3/
LOCATION:La Troca / Roca Umbert
END:VEVENT
BEGIN:VEVENT
DTSTART;TZID=UTC:20260515T220000
DTEND;TZID=UTC:20260515T220000
DTSTAMP:20260420T214924
CREATED:20260420T150242Z
LAST-MODIFIED:20260420T150242Z
UID:4176-1778882400-1778882400@ascensio.cat
SUMMARY:BALL AMB L'ORQUESTRA LA PRINCIPAL DE LA BISBAL
DESCRIPTION:(En cas de pluja consulteu possibles canvis d’ubicació a instagram.com/granollerscultura)
URL:https://ascensio.cat/esdeveniments/ball-amb-lorquestra-la-principal-de-la-bisbal/
LOCATION:Plaça de la Porxada
END:VEVENT
BEGIN:VEVENT
DTSTART;TZID=UTC:20260516T000000
DTEND;TZID=UTC:20260516T233000
DTSTAMP:20260420T214924
CREATED:20260420T150402Z
LAST-MODIFIED:20260420T150402Z
UID:4178-1778889600-1778974200@ascensio.cat
SUMMARY:FESTA AMB ELS XICS DE GRANOLLERS\, AMB PATRONAL DEL RITME I PD PIRULETA
DESCRIPTION:Preu: 4 € \nEntrades a rocaumbert.com\nOrg.: Xics de Granollers
URL:https://ascensio.cat/esdeveniments/festa-amb-els-xics-de-granollers-amb-patronal-del-ritme-i-pd-piruleta/
LOCATION:Roca Umbert
END:VEVENT
BEGIN:VEVENT
DTSTART;TZID=UTC:20260516T110000
DTEND;TZID=UTC:20260516T110000
DTSTAMP:20260420T214924
CREATED:20260420T150504Z
LAST-MODIFIED:20260420T150504Z
UID:4180-1778929200-1778929200@ascensio.cat
SUMMARY:50 ANYS DE L'EDIFICI DEL MUSEU DE GRANOLLERS
DESCRIPTION:Acte inaugural. Visita guiada “Descobreix el museu”\, a càrrec d’El Globus Vermell.
URL:https://ascensio.cat/esdeveniments/50-anys-de-ledifici-del-museu-de-granollers/
LOCATION:Museu de Granollers\, Museo de Granollers\, Carrer Anselm Clavé\, 40 - 42\, 08401 Granollers\, Barcelona\, Granollers\, Barcelona\, 08401\, Espanya
END:VEVENT
BEGIN:VEVENT
DTSTART;TZID=UTC:20260516T113000
DTEND;TZID=UTC:20260516T130000
DTSTAMP:20260420T214924
CREATED:20260420T150629Z
LAST-MODIFIED:20260420T150629Z
UID:4182-1778931000-1778936400@ascensio.cat
SUMMARY:PROJECTAR L’INVISIBLE Taller familiar d’ombres xineses amb l’artista i mediadora Auri Alós
DESCRIPTION:Edat recomanada: de 6 a 12 anys\, amb acompanyament adult. \n 
URL:https://ascensio.cat/esdeveniments/projectar-linvisible-taller-familiar-dombres-xineses-amb-lartista-i-mediadora-auri-alos/
LOCATION:Roca Umbert
END:VEVENT
BEGIN:VEVENT
DTSTART;TZID=UTC:20260516T180000
DTEND;TZID=UTC:20260516T180000
DTSTAMP:20260420T214924
CREATED:20260420T150758Z
LAST-MODIFIED:20260420T150758Z
UID:4184-1778954400-1778954400@ascensio.cat
SUMMARY:CERCAVILA DE LA PASSADA DE L'ASCENCIÓ
DESCRIPTION:Recorregut: c. Barcelona\, c. Príncep de Viana\, c. Anselm Clavé\, c. St. Roc i pl. Porxada
URL:https://ascensio.cat/esdeveniments/cercavila-de-la-passada-de-lascencio/
LOCATION:Plaça de la Porxada
END:VEVENT
BEGIN:VEVENT
DTSTART;TZID=UTC:20260516T190000
DTEND;TZID=UTC:20260516T190000
DTSTAMP:20260420T214924
CREATED:20260420T150922Z
LAST-MODIFIED:20260420T150922Z
UID:4186-1778958000-1778958000@ascensio.cat
SUMMARY:MOSTRA DE BALLS DE LA PASSADA
DESCRIPTION:
URL:https://ascensio.cat/esdeveniments/mostra-de-balls-de-la-passada/
LOCATION:Plaça de la Porxada
END:VEVENT
BEGIN:VEVENT
DTSTART;TZID=UTC:20260516T193000
DTEND;TZID=UTC:20260516T193000
DTSTAMP:20260420T214924
CREATED:20260420T151120Z
LAST-MODIFIED:20260420T151120Z
UID:4190-1778959800-1778959800@ascensio.cat
SUMMARY:CONCERT DE GÒSPEL AMB EL COR CONNECTATS
DESCRIPTION:Més de 100 cantaires i 7 cors dirigits per Ben Bensis. \nEntrada lliure amb taquilla inversa destinada a Mans Unides Vallès Oriental. Aforament limitat. \nOrg.: Mans Unides Granollers \nCol.l.: Associació Intercanvis Corals i Parròquia de Sant Esteve
URL:https://ascensio.cat/esdeveniments/concert-de-gospel-amb-el-cor-connectats/
LOCATION:Parròquia de Sant Esteve de Granollers\, Església de Sant Esteve de Granollers\, Plaça de l'Església\, 1\, 08401 Granollers\, Barcelona\, Granollers\, Barcelona\, 08401\, Espanya
END:VEVENT
BEGIN:VEVENT
DTSTART;TZID=UTC:20260517T110000
DTEND;TZID=UTC:20260517T180000
DTSTAMP:20260420T214924
CREATED:20260420T151304Z
LAST-MODIFIED:20260420T151304Z
UID:4193-1779015600-1779040800@ascensio.cat
SUMMARY:LA BESTIESA DE L’ASCENSIÓ: EXPOSICIÓ DEL BESTIARI
DESCRIPTION:La Mulassa convida una figura de bestiari festiu a Granollers. \nOrg.: Olla dels Pobres – Mulassa
URL:https://ascensio.cat/esdeveniments/la-bestiesa-de-lascensio-exposicio-del-bestiari-2/
LOCATION:Plaça de la Porxada
END:VEVENT
BEGIN:VEVENT
DTSTART;TZID=UTC:20260517T113000
DTEND;TZID=UTC:20260517T113000
DTSTAMP:20260420T214924
CREATED:20260420T151348Z
LAST-MODIFIED:20260420T151348Z
UID:4195-1779017400-1779017400@ascensio.cat
SUMMARY:DIADA CASTELLERA DE L’ASCENSIÓ
DESCRIPTION:Actuació castellera amb Sagals d’Osona\, Jove de Barcelona i Xics de Granollers. \nOrg.: Xics de Granollers
URL:https://ascensio.cat/esdeveniments/diada-castellera-de-lascensio/
LOCATION:Plaça de la Porxada
END:VEVENT
BEGIN:VEVENT
DTSTART;TZID=UTC:20260517T183000
DTEND;TZID=UTC:20260517T183000
DTSTAMP:20260420T214924
CREATED:20260420T151620Z
LAST-MODIFIED:20260420T151620Z
UID:4201-1779042600-1779042600@ascensio.cat
SUMMARY:16a TROBADA D’HAVANERES\, MEMORIAL ANDREU TURA
DESCRIPTION:Ultramar i Els Pescadors de l’Escala \nDurant la mitja part hi haurà rom cremat per als assistents.
URL:https://ascensio.cat/esdeveniments/16a-trobada-dhavaneres-memorial-andreu-tura/
LOCATION:Plaça de la Porxada
END:VEVENT
BEGIN:VEVENT
DTSTART;TZID=UTC:20260517T190000
DTEND;TZID=UTC:20260517T190000
DTSTAMP:20260420T214924
CREATED:20260420T151707Z
LAST-MODIFIED:20260420T151707Z
UID:4203-1779044400-1779044400@ascensio.cat
SUMMARY:LA BESTIESA DE L’ASCENSIÓ: MOSTRA DE BALLS
DESCRIPTION:Org.: Olla dels Pobres – Mulassa
URL:https://ascensio.cat/esdeveniments/la-bestiesa-de-lascensio-mostra-de-balls/
LOCATION:Plaça de la Corona
END:VEVENT
BEGIN:VEVENT
DTSTART;TZID=UTC:20260523T183000
DTEND;TZID=UTC:20260523T183000
DTSTAMP:20260420T214924
CREATED:20260420T151802Z
LAST-MODIFIED:20260420T151802Z
UID:4205-1779561000-1779561000@ascensio.cat
SUMMARY:L'ASCENSIÓ EN DANSA
DESCRIPTION:Ballada del Cos de Dansa i el grup Asociación Folklórica Virgen de las Cruces de Daimiel (Ciudad Real) \nOrg.: Esbart Dansaire de Granollers
URL:https://ascensio.cat/esdeveniments/lascensio-en-dansa-3/
LOCATION:Plaça de la Porxada
END:VEVENT
END:VCALENDAR