BEGIN:VCALENDAR
VERSION:2.0
PRODID:-//L´Ascensió Fires i Festes 2026 - ECPv6.0.1.1//NONSGML v1.0//EN
CALSCALE:GREGORIAN
METHOD:PUBLISH
X-ORIGINAL-URL:https://ascensio.cat
X-WR-CALDESC:Esdeveniments per L´Ascensió Fires i Festes 2026
REFRESH-INTERVAL;VALUE=DURATION:PT1H
X-Robots-Tag:noindex
X-PUBLISHED-TTL:PT1H
BEGIN:VTIMEZONE
TZID:UTC
BEGIN:STANDARD
TZOFFSETFROM:+0000
TZOFFSETTO:+0000
TZNAME:UTC
DTSTART:20230101T000000
END:STANDARD
END:VTIMEZONE
BEGIN:VEVENT
DTSTART;VALUE=DATE:20230519
DTEND;VALUE=DATE:20230522
DTSTAMP:20260424T030225
CREATED:20230515T074659Z
LAST-MODIFIED:20230515T074659Z
UID:2104-1684454400-1684713599@ascensio.cat
SUMMARY:Racó dels Jocs del demà
DESCRIPTION:
URL:https://ascensio.cat/esdeveniments/raco-dels-jocs-del-dema/
LOCATION:Roca Umbert Dents de Serra
CATEGORIES:Jugar x Jugar
END:VEVENT
END:VCALENDAR