BEGIN:VCALENDAR
VERSION:2.0
PRODID:-//L´Ascensió Fires i Festes 2026 - ECPv6.0.1.1//NONSGML v1.0//EN
CALSCALE:GREGORIAN
METHOD:PUBLISH
X-WR-CALNAME:L´Ascensió Fires i Festes 2026
X-ORIGINAL-URL:https://ascensio.cat
X-WR-CALDESC:Esdeveniments per L´Ascensió Fires i Festes 2026
REFRESH-INTERVAL;VALUE=DURATION:PT1H
X-Robots-Tag:noindex
X-PUBLISHED-TTL:PT1H
BEGIN:VTIMEZONE
TZID:UTC
BEGIN:STANDARD
TZOFFSETFROM:+0000
TZOFFSETTO:+0000
TZNAME:UTC
DTSTART:20250101T000000
END:STANDARD
END:VTIMEZONE
BEGIN:VEVENT
DTSTART;VALUE=DATE:20250530
DTEND;VALUE=DATE:20250531
DTSTAMP:20260422T102242
CREATED:20230506T182210Z
LAST-MODIFIED:20250516T105117Z
UID:1811-1748563200-1748649599@ascensio.cat
SUMMARY:Hort amb productes de temporada
DESCRIPTION:Tot el dia. \nOrg.: Fem Horting-Palou
URL:https://ascensio.cat/esdeveniments/hort-amb-productes-de-temporada-3/
LOCATION:Parc Firal – Espai Valors de Pagès
END:VEVENT
BEGIN:VEVENT
DTSTART;TZID=UTC:20250531T160000
DTEND;TZID=UTC:20250531T180000
DTSTAMP:20260422T102242
CREATED:20250513T063014Z
LAST-MODIFIED:20250515T102026Z
UID:3676-1748707200-1748714400@ascensio.cat
SUMMARY:Mural didàctic: L'Estenedor de les Injustícies + joc
DESCRIPTION:D’11.30 a 13.30 h i de 16 a 18 h. \nA càrrec de SETEM amb la col·laboració de l’Agència Catalana de Cooperació
URL:https://ascensio.cat/esdeveniments/mural-didactic-lestenedor-de-les-injusticies-joc/
LOCATION:Parc Firal – Espai Moda Bé
END:VEVENT
BEGIN:VEVENT
DTSTART;TZID=UTC:20250531T170000
DTEND;TZID=UTC:20250601T030000
DTSTAMP:20260422T102242
CREATED:20230516T162656Z
LAST-MODIFIED:20250514T110733Z
UID:2265-1748710800-1748746800@ascensio.cat
SUMMARY:Fira d'atraccions
DESCRIPTION:Dijous 29 de maig de 17 a 1 h\nDivendres 30 de maig de 17 a 3 h\nDissabte 31 de maig de 17 a 3 h\nDiumenge 01 de juny de 17  a 1 h \n 
URL:https://ascensio.cat/esdeveniments/fira-datraccions-3/
LOCATION:Parc Firal
CATEGORIES:Fira d'atraccions
END:VEVENT
BEGIN:VEVENT
DTSTART;TZID=UTC:20250531T180000
DTEND;TZID=UTC:20250531T210000
DTSTAMP:20260422T102242
CREATED:20250516T094948Z
LAST-MODIFIED:20250516T095126Z
UID:3829-1748714400-1748725200@ascensio.cat
SUMMARY:L'Adoberia. Centre d'interpretació històrica. El Granollers medieval.
DESCRIPTION:Dissabte 31 de maig\, de 18 a 21 h\nDiumenge 1 de juny\, d’11 a 14 h \nEntrada gratuïta
URL:https://ascensio.cat/esdeveniments/ladoberia-centre-dinterpretacio-historica-el-granollers-medieval/
LOCATION:L’Adoberia. Centre d’interpretació històrica\, Plaça de l'Església\, Granollers
CATEGORIES:L' Ascensió al Parc Firal,La Xis Festa del Formatge
END:VEVENT
END:VCALENDAR