BEGIN:VCALENDAR
VERSION:2.0
PRODID:-//L´Ascensió Fires i Festes 2026 - ECPv6.0.1.1//NONSGML v1.0//EN
CALSCALE:GREGORIAN
METHOD:PUBLISH
X-WR-CALNAME:L´Ascensió Fires i Festes 2026
X-ORIGINAL-URL:https://ascensio.cat
X-WR-CALDESC:Esdeveniments per L´Ascensió Fires i Festes 2026
REFRESH-INTERVAL;VALUE=DURATION:PT1H
X-Robots-Tag:noindex
X-PUBLISHED-TTL:PT1H
BEGIN:VTIMEZONE
TZID:UTC
BEGIN:STANDARD
TZOFFSETFROM:+0000
TZOFFSETTO:+0000
TZNAME:UTC
DTSTART:20230101T000000
END:STANDARD
END:VTIMEZONE
BEGIN:VEVENT
DTSTART;VALUE=DATE:20230519
DTEND;VALUE=DATE:20230522
DTSTAMP:20260424T011439
CREATED:20230515T074659Z
LAST-MODIFIED:20230515T074659Z
UID:2104-1684454400-1684713599@ascensio.cat
SUMMARY:Racó dels Jocs del demà
DESCRIPTION:
URL:https://ascensio.cat/esdeveniments/raco-dels-jocs-del-dema/
LOCATION:Roca Umbert Dents de Serra
CATEGORIES:Jugar x Jugar
END:VEVENT
BEGIN:VEVENT
DTSTART;TZID=UTC:20230520T100000
DTEND;TZID=UTC:20230520T190000
DTSTAMP:20260424T011439
CREATED:20220426T130305Z
LAST-MODIFIED:20230506T161858Z
UID:1109-1684576800-1684609200@ascensio.cat
SUMMARY:MOSTRA D'OFICIS
DESCRIPTION:Una demostració dels diferents oficis a càrrec dels mestres artesans. \nEn un format pedagògic que ens explica l’origen de cada activitat\, i que connecta amb les necessitats dels diferents sectors econòmics d’avui dia.
URL:https://ascensio.cat/esdeveniments/mostra-doficis/
LOCATION:Plaça de la Porxada
ATTACH;FMTTYPE=image/png:https://ascensio.cat/wp-content/uploads/2022/04/oficis.png
END:VEVENT
BEGIN:VEVENT
DTSTART;TZID=UTC:20230527T183000
DTEND;TZID=UTC:20230527T193000
DTSTAMP:20260424T011439
CREATED:20230509T105549Z
LAST-MODIFIED:20230516T104603Z
UID:1965-1685212200-1685215800@ascensio.cat
SUMMARY:L’Ascensió en dansa
DESCRIPTION:Amb l’Esbart Egarenc\, l’Esbart Dansaire de Tarragona i l’Esbart Dansaire de Granollers\nOrg.: Esbart Dansaire de Granollers
URL:https://ascensio.cat/esdeveniments/lascensio-en-dansa/
LOCATION:Plaça de la Porxada
END:VEVENT
END:VCALENDAR